Workbook

Sheet GLOBAL
A2: REGISTRO AGRARIO NACIONAL
A3: CALENDARIO DE PUBLICACIÓN DE LOS INDICADORES CLAVE (IC) EN MATERIA DE PROPIEDAD SOCIAL.
A4: SERIES ESTADÍSTICAS 2016 - 2026
A6: INDICADORES BÁSICOS DE LA PROPIEDAD SOCIAL (IBPS)
A7: Año | B7: Ene | C7: Feb | D7: Mar | E7: Abr | F7: May | G7: Jun | H7: Jul | I7: Ago | J7: Sep | K7: Oct | L7: Nov | M7: Dic | N7: IC
A8: 2016 | L8: P | N8: ='2016'!A14 -> 6
A9: 2017 | E9: P | N9: ='2017'!A32 -> 24
A10: 2018 | D10: P | N10: ='2018'!A32 -> 24
A11: 2019 | D11: P | N11: ='2019'!A32 -> 24
A12: 2020 | D12: P | N12: ='2020'!A32 -> 24
A13: 2021 | D13: P | J13: P | N13: ='2021'!A38 -> 30
A14: 2022 | D14: P | N14: ='2022'!A38 -> 30
A15: 2023 | D15: P | N15: ='2023'!A41 -> 34
A16: 2024 | E16: P | N16: ='2024'!N42 -> 34
A17: 2025 | D17: P | N17: ='2025'!N42 -> 34
A18: 2026 | E18: P | N18: ='2026'!N42 -> 34
A21: INDICADORES CON PERSPECTIVA DE GÉNERO ALINEADOS A LOS OBJETIVOS DE DESARROLLO SOSTENIBLE (ODS)
A22: Año | B22: Ene | C22: Feb | D22: Mar | E22: Abr | F22: May | G22: Jun | H22: Jul | I22: Ago | J22: Sep | K22: Oct | L22: Nov | M22: Dic | N22: IC
A23: 2024 | G23: P | N23: ='2024'!N52 -> 2
A24: 2025 | D24: P | N24: ='2025'!N52 -> 2
A25: 2026 | E25: P | N25: ='2026'!N52 -> 2
A29: =A25 -> 2026 | L29: TOTAL | M29: IC: | N29: =N18+N25 -> 36

Sheet 2026
A2: REGISTRO AGRARIO NACIONAL
A3: CALENDARIO DE PUBLICACIÓN DE LOS INDICADORES CLAVE EN MATERIA DE PROPIEDAD SOCIAL.
A4: 2026
A5: INDICADORES BÁSICOS DE LA PROPIEDAD SOCIAL (IBPS)
A6: N° | B6: Indicador | C6: Ene | D6: Feb | E6: Mar | F6: Abr | G6: May | H6: Jun | I6: Jul | J6: Ago | K6: Sep | L6: Oct | M6: Nov | N6: Dic
A7: 1 | B7: Número de ejidos registrados | F7: abr
A8: 2 | B8: Superficie ejidal registrada | F8: abr
A9: 3 | B9: Número de ejidos registrados con delimitación de tierras | F9: abr
A10: 4 | B10: Superficie ejidal registrada con delimitación de tierras | F10: abr
A11: 5 | B11: Número de ejidos registrados con tierras destinadas al asentamiento humano | F11: abr
A12: 6 | B12: Superficie ejidal registrada destinada al asentamiento humano | F12: abr
A13: 7 | B13: Número de ejidos registrados con tierras destinadas al parcelamiento | F13: abr
A14: 8 | B14: Superficie ejidal registrada destinada al parcelamiento | F14: abr
A15: 9 | B15: Número de ejidos registrados con tierras destinadas al uso común | F15: abr
A16: 10 | B16: Superficie ejidal registrada con tierras destinadas al uso común | F16: abr
A17: 11 | B17: Número de ejidos registrados con solares urbanos delimitados | F17: abr
A18: 12 | B18: Número de solares urbanos delimitados en ejidos | F18: abr
... A40: 34 | B40: Superficie de Comunidades Registradas sin Certificar | F40: abr
A42: SUBTOTAL | M42: IBPS: | N42: =COUNT(A7:A40) -> 34
A46: INDICADORES CON PERSPECTIVA DE GÉNERO ALINEADOS A LOS OBJETIVOS DE DESARROLLO SOSTENIBLE (ODS)
A47: Meta 5n.2 Igualdad de oportunidad en el acceso a recursos económicos, acceso a la propiedad y servicios financieros para las mujeres, de la Agenda 2030 para el Desarrollo Sostenible
A48: N° | B48: Indicador | C48: Ene | D48: Feb | E48: Mar | F48: Abr | G48: May | H48: Jun | I48: Jul | J48: Ago | K48: Sep | L48: Oct | M48: Nov | N48: Dic
A49: 35 | B49: Proporción de documentos expedidos a sujetos agrarios mujeres | F49: abr
A50: 36 | B50: Proporción de sujetos agrarios mujeres con documentos expedidos | F50: abr
A52: SUBTOTAL | M52: ODS: | N52: 2
A56: TOTAL | M56: IC: | N56: =N42+N52 -> 36

Sheet 2025
A2: REGISTRO AGRARIO NACIONAL
A3: CALENDARIO DE PUBLICACIÓN DE LOS INDICADORES CLAVE EN MATERIA DE PROPIEDAD SOCIAL.
A4: 2025
A5: INDICADORES BÁSICOS DE LA PROPIEDAD SOCIAL (IBPS)
A6: N° | B6: Indicador | C6: Ene | D6: Feb | E6: Mar | F6: Abr | G6: May | H6: Jun | I6: Jul | J6: Ago | K6: Sep | L6: Oct | M6: Nov | N6: Dic
A7: 1 | B7: Número de ejidos registrados | E7: 44286
A8: 2 | B8: Superficie ejidal registrada | E8: 44286
A9: 3 | B9: Número de ejidos registrados con delimitación de tierras | E9: 44286
A10: 4 | B10: Superficie ejidal registrada con delimitación de tierras | E10: 44286
A11: 5 | B11: Número de ejidos registrados con tierras destinadas al asentamiento humano | E11: 44286
A12: 6 | B12: Superficie ejidal registrada destinada al asentamiento humano | E12: 44286
A13: 7 | B13: Número de ejidos registrados con tierras destinadas al parcelamiento | E13: 44286
A14: 8 | B14: Superficie ejidal registrada destinada al parcelamiento | E14: 44286
A15: 9 | B15: Número de ejidos registrados con tierras destinadas al uso común | E15: 44286
A16: 10 | B16: Superficie ejidal registrada con tierras destinadas al uso común | E16: 44286
A17: 11 | B17: Número de ejidos registrados con solares urbanos delimitados | E17: 44286
A18: 12 | B18: Número de solares urbanos delimitados en ejidos | E18: 44286
... A40: 34 | B40: Superficie de Comunidades Registradas sin Certificar | E40: 44286
A42: SUBTOTAL | M42: IBPS: | N42: =COUNT(A7:A40) -> 34
A46: INDICADORES CON PERSPECTIVA DE GÉNERO ALINEADOS A LOS OBJETIVOS DE DESARROLLO SOSTENIBLE (ODS)
A47: Meta 5n.2 Igualdad de oportunidad en el acceso a recursos económicos, acceso a la propiedad y servicios financieros para las mujeres, de la Agenda 2030 para el Desarrollo Sostenible
A48: N° | B48: Indicador | C48: Ene | D48: Feb | E48: Mar | F48: Abr | G48: May | H48: Jun | I48: Jul | J48: Ago | K48: Sep | L48: Oct | M48: Nov | N48: Dic
A49: 35 | B49: Proporción de documentos expedidos a sujetos agrarios mujeres | E49: 44286
A50: 36 | B50: Proporción de sujetos agrarios mujeres con documentos expedidos | E50: 44286
A52: SUBTOTAL | M52: ODS: | N52: 2
A56: TOTAL | M56: IC: | N56: =N42+N52 -> 36

Sheet 2024
A2: REGISTRO AGRARIO NACIONAL
A3: CALENDARIO DE PUBLICACIÓN DE LOS INDICADORES CLAVE EN MATERIA DE PROPIEDAD SOCIAL.
A4: 2024
A5: INDICADORES BÁSICOS DE LA PROPIEDAD SOCIAL (IBPS)
A6: N° | B6: Indicador | C6: Ene | D6: Feb | E6: Mar | F6: Abr | G6: May | H6: Jun | I6: Jul | J6: Ago | K6: Sep | L6: Oct | M6: Nov | N6: Dic
A7: 1 | B7: Número de ejidos registrados | F7: 45383
A8: 2 | B8: Superficie ejidal registrada | F8: 45383
A9: 3 | B9: Número de ejidos registrados con delimitación de tierras | F9: 45383
A10: 4 | B10: Superficie ejidal registrada con delimitación de tierras | F10: 45383
A11: 5 | B11: Número de ejidos registrados con tierras destinadas al asentamiento humano | F11: 45383
A12: 6 | B12: Superficie ejidal registrada destinada al asentamiento humano | F12: 45383
A13: 7 | B13: Número de ejidos registrados con tierras destinadas al parcelamiento | F13: 45383
A14: 8 | B14: Superficie ejidal registrada destinada al parcelamiento | F14: 45383
A15: 9 | B15: Número de ejidos registrados con tierras destinadas al uso común | F15: 45383
A16: 10 | B16: Superficie ejidal registrada con tierras destinadas al uso común | F16: 45383
A17: 11 | B17: Número de ejidos registrados con solares urbanos delimitados | F17: 45383
A18: 12 | B18: Número de solares urbanos delimitados en ejidos | F18: 45383
... A40: 34 | B40: Superficie de Comunidades Registradas sin Certificar | F40: 45383
A42: SUBTOTAL | M42: IBPS: | N42: =COUNT(A7:A40) -> 34
A46: INDICADORES CON PERSPECTIVA DE GÉNERO ALINEADOS A LOS OBJETIVOS DE DESARROLLO SOSTENIBLE (ODS)
A47: Meta 5n.2 Igualdad de oportunidad en el acceso a recursos económicos, acceso a la propiedad y servicios financieros para las mujeres, de la Agenda 2030 para el Desarrollo Sostenible
A48: N° | B48: Indicador | C48: Ene | D48: Feb | E48: Mar | F48: Abr | G48: May | H48: Jun | I48: Jul | J48: Ago | K48: Sep | L48: Oct | M48: Nov | N48: Dic
A49: 35 | B49: Proporción de documentos expedidos a sujetos agrarios mujeres | H49: 45465
A50: 36 | B50: Proporción de sujetos agrarios mujeres con documentos expedidos | H50: 45465
A52: SUBTOTAL | M52: ODS: | N52: 2
A56: TOTAL | M56: IC: | N56: =N42+N52 -> 36

Sheet 2023
A2: REGISTRO AGRARIO NACIONAL
A3: CALENDARIO DE PUBLICACIÓN DE LOS INDICADORES CLAVE EN MATERIA DE PROPIEDAD SOCIAL.
A4: 2023
A5: INDICADORES BÁSICOS DE LA PROPIEDAD SOCIAL (IBPS)
A6: N° | B6: Indicador | C6: Ene | D6: Feb | E6: Mar | F6: Abr | G6: May | H6: Jun | I6: Jul | J6: Ago | K6: Sep | L6: Oct | M6: Nov | N6: Dic
A7: 1 | B7: Número de ejidos registrados | E7: 44286
A8: 2 | B8: Superficie ejidal registrada | E8: 44286
A9: 3 | B9: Número de ejidos registrados con delimitación de tierras | E9: 44286
A10: 4 | B10: Superficie ejidal registrada con delimitación de tierras | E10: 44286
A11: 5 | B11: Número de ejidos registrados con tierras destinadas al asentamiento humano | E11: 44286
A12: 6 | B12: Superficie ejidal registrada destinada al asentamiento humano | E12: 44286
A13: 7 | B13: Número de ejidos registrados con tierras destinadas al parcelamiento | E13: 44286
A14: 8 | B14: Superficie ejidal registrada destinada al parcelamiento | E14: 44286
A15: 9 | B15: Número de ejidos registrados con tierras destinadas al uso común | E15: 44286
A16: 10 | B16: Superficie ejidal registrada con tierras destinadas al uso común | E16: 44286
A17: 11 | B17: Número de ejidos registrados con solares urbanos delimitados | E17: 44286
A18: 12 | B18: Número de solares urbanos delimitados en ejidos | E18: 44286
... A40: 34 | B40: Superficie de Comunidades Registradas sin Certificar | E40: 44286
A41: =COUNT(A7:A40) -> 34 | B41: IBPS

Sheet 2022
A2: REGISTRO AGRARIO NACIONAL
A3: CALENDARIO DE PUBLICACIÓN DE LOS INDICADORES CLAVE EN MATERIA DE PROPIEDAD SOCIAL.
A4: 2022
A5: INDICADORES BÁSICOS DE LA PROPIEDAD SOCIAL (IBPS)
A6: N° | B6: Indicador | C6: Ene | D6: Feb | E6: Mar | F6: Abr | G6: May | H6: Jun | I6: Jul | J6: Ago | K6: Sep | L6: Oct | M6: Nov | N6: Dic
A7: 1 | B7: Número de ejidos registrados | E7: 43921
A8: 2 | B8: Superficie ejidal registrada | E8: 43921
A9: 3 | B9: Número de ejidos registrados con delimitación de tierras | E9: 43921
A10: 4 | B10: Superficie ejidal registrada con delimitación de tierras | E10: 43921
A11: 5 | B11: Número de ejidos registrados con tierras destinadas al asentamiento humano | E11: 43921
A12: 6 | B12: Superficie ejidal registrada destinada al asentamiento humano | E12: 43921
A13: 7 | B13: Número de ejidos registrados con tierras destinadas al parcelamiento | E13: 43921
A14: 8 | B14: Superficie ejidal registrada destinada al parcelamiento | E14: 43921
A15: 9 | B15: Número de ejidos registrados con tierras destinadas al uso común | E15: 43921
A16: 10 | B16: Superficie ejidal registrada con tierras destinadas al uso común | E16: 43921
A17: 11 | B17: Número de ejidos registrados con solares urbanos delimitados | E17: 43921
A18: 12 | B18: Número de solares urbanos delimitados en ejidos | E18: 43921
... A36: 30 | B36: Superficie destinada a la reserva de crecimiento en comunidades registradas | E36: 43921
A38: =COUNT(A7:A36) -> 30 | B38: IBPS

Sheet 2021
A2: REGISTRO AGRARIO NACIONAL
A3: CALENDARIO DE PUBLICACIÓN DE LOS INDICADORES CLAVE EN MATERIA DE PROPIEDAD SOCIAL.
A4: 2021
A5: INDICADORES BÁSICOS DE LA PROPIEDAD SOCIAL (IBPS)
A6: N° | B6: Indicador | C6: Ene | D6: Feb | E6: Mar | F6: Abr | G6: May | H6: Jun | I6: Jul | J6: Ago | K6: Sep | L6: Oct | M6: Nov | N6: Dic
A7: 1 | B7: Número de ejidos registrados | E7: 44286
A8: 2 | B8: Superficie ejidal registrada | E8: 44286
A9: 3 | B9: Número de ejidos registrados con delimitación de tierras | E9: 44286
A10: 4 | B10: Superficie ejidal registrada con delimitación de tierras | E10: 44286
A11: 5 | B11: Número de ejidos registrados con tierras destinadas al asentamiento humano | E11: 44286
A12: 6 | B12: Superficie ejidal registrada destinada al asentamiento humano | E12: 44286
A13: 7 | B13: Número de ejidos registrados con tierras destinadas al parcelamiento | E13: 44286
A14: 8 | B14: Superficie ejidal registrada destinada al parcelamiento | E14: 44286
A15: 9 | B15: Número de ejidos registrados con tierras destinadas al uso común | E15: 44286
A16: 10 | B16: Superficie ejidal registrada con tierras destinadas al uso común | E16: 44286
A17: 11 | B17: Número de ejidos registrados con solares urbanos delimitados | E17: 44286
A18: 12 | B18: Número de solares urbanos delimitados en ejidos | E18: 44286
... A30: 24 | B30: Superficie comunal registrada como solar urbano delimitado | E30: 44286
A31: 25 | B31: Número de comunidades registradas con tierras destinadas al parcelamiento | K31: 44446
A32: 26 | B32: Superficie destinada al parcelamiento en comunidades registradas | K32: 44446
A33: 27 | B33: Número de comunidades registradas con tierras destinadas al uso común | K33: 44446
A34: 28 | B34: Superficie destinada al uso común en comunidades registradas | K34: 44446
A35: 29 | B35: Número de comunidades registradas con tierras destinadas a la reserva de crecimiento | K35: 44446
A36: 30 | B36: Superficie destinada a la reserva de crecimiento en comunidades registradas | K36: 44446
A38: =COUNT(A7:A36) -> 30 | B38: IBPS

Sheet 2020
A2: REGISTRO AGRARIO NACIONAL
A3: CALENDARIO DE PUBLICACIÓN DE LOS INDICADORES CLAVE EN MATERIA DE PROPIEDAD SOCIAL.
A4: 2020
A5: INDICADORES BÁSICOS DE LA PROPIEDAD SOCIAL (IBPS)
A6: N° | B6: Indicador | C6: Ene | D6: Feb | E6: Mar | F6: Abr | G6: May | H6: Jun | I6: Jul | J6: Ago | K6: Sep | L6: Oct | M6: Nov | N6: Dic
A7: 1 | B7: Número de ejidos registrados | E7: 43921
A8: 2 | B8: Superficie ejidal registrada | E8: 43921
A9: 3 | B9: Número de ejidos registrados con delimitación de tierras | E9: 43921
A10: 4 | B10: Superficie ejidal registrada con delimitación de tierras | E10: 43921
A11: 5 | B11: Número de ejidos registrados con tierras destinadas al asentamiento humano | E11: 43921
A12: 6 | B12: Superficie ejidal registrada destinada al asentamiento humano | E12: 43921
A13: 7 | B13: Número de ejidos registrados con tierras destinadas al parcelamiento | E13: 43921
A14: 8 | B14: Superficie ejidal registrada destinada al parcelamiento | E14: 43921
A15: 9 | B15: Número de ejidos registrados con tierras destinadas al uso común | E15: 43921
A16: 10 | B16: Superficie ejidal registrada con tierras destinadas al uso común | E16: 43921
A17: 11 | B17: Número de ejidos registrados con solares urbanos delimitados | E17: 43921
A18: 12 | B18: Número de solares urbanos delimitados en ejidos | E18: 43921
... A30: 24 | B30: Superficie comunal registrada como solar urbano delimitado | E30: 43921
A32: =COUNT(A7:A30) -> 24 | B32: IBPS

Sheet 2019
A2: REGISTRO AGRARIO NACIONAL
A3: CALENDARIO DE PUBLICACIÓN DE LOS INDICADORES CLAVE EN MATERIA DE PROPIEDAD SOCIAL.
A4: 2019
A5: INDICADORES BÁSICOS DE LA PROPIEDAD SOCIAL (IBPS)
A6: N° | B6: Indicador | C6: Ene | D6: Feb | E6: Mar | F6: Abr | G6: May | H6: Jun | I6: Jul | J6: Ago | K6: Sep | L6: Oct | M6: Nov | N6: Dic
A7: 1 | B7: Número de ejidos registrados | E7: 43553
A8: 2 | B8: Superficie ejidal registrada | E8: 43553
A9: 3 | B9: Número de ejidos registrados con delimitación de tierras | E9: 43553
A10: 4 | B10: Superficie ejidal registrada con delimitación de tierras | E10: 43553
A11: 5 | B11: Número de ejidos registrados con tierras destinadas al asentamiento humano | E11: 43553
A12: 6 | B12: Superficie ejidal registrada destinada al asentamiento humano | E12: 43553
A13: 7 | B13: Número de ejidos registrados con tierras destinadas al parcelamiento | E13: 43553
A14: 8 | B14: Superficie ejidal registrada destinada al parcelamiento | E14: 43553
A15: 9 | B15: Número de ejidos registrados con tierras destinadas al uso común | E15: 43553
A16: 10 | B16: Superficie ejidal registrada con tierras destinadas al uso común | E16: 43553
A17: 11 | B17: Número de ejidos registrados con solares urbanos delimitados | E17: 43553
A18: 12 | B18: Número de solares urbanos delimitados en ejidos | E18: 43553
... A30: 24 | B30: Superficie comunal registrada como solar urbano delimitado | E30: 43553
A32: =COUNT(A7:A30) -> 24 | B32: IBPS

Sheet 2018
A2: REGISTRO AGRARIO NACIONAL
A3: CALENDARIO DE PUBLICACIÓN DE LOS INDICADORES CLAVE EN MATERIA DE PROPIEDAD SOCIAL.
A4: 2018
A5: INDICADORES BÁSICOS DE LA PROPIEDAD SOCIAL (IBPS)
A6: N° | B6: Indicador | C6: Ene | D6: Feb | E6: Mar | F6: Abr | G6: May | H6: Jun | I6: Jul | J6: Ago | K6: Sep | L6: Oct | M6: Nov | N6: Dic
A7: 1 | B7: Número de ejidos registrados | E7: 43189
A8: 2 | B8: Superficie ejidal registrada | E8: 43189
A9: 3 | B9: Número de ejidos registrados con delimitación de tierras | E9: 43189
A10: 4 | B10: Superficie ejidal registrada con delimitación de tierras | E10: 43189
A11: 5 | B11: Número de ejidos registrados con tierras destinadas al asentamiento humano | E11: 43189
A12: 6 | B12: Superficie ejidal registrada destinada al asentamiento humano | E12: 43189
A13: 7 | B13: Número de ejidos registrados con tierras destinadas al parcelamiento | E13: 43189
A14: 8 | B14: Superficie ejidal registrada destinada al parcelamiento | E14: 43189
A15: 9 | B15: Número de ejidos registrados con tierras destinadas al uso común | E15: 43189
A16: 10 | B16: Superficie ejidal registrada con tierras destinadas al uso común | E16: 43189
A17: 11 | B17: Número de ejidos registrados con solares urbanos delimitados | E17: 43189
A18: 12 | B18: Número de solares urbanos delimitados en ejidos | E18: 43189
... A30: 24 | B30: Superficie comunal registrada como solar urbano delimitado | E30: 43189
A32: =COUNT(A7:A30) -> 24 | B32: IBPS

Sheet 2017
A2: REGISTRO AGRARIO NACIONAL
A3: CALENDARIO DE PUBLICACIÓN DE LOS INDICADORES CLAVE EN MATERIA DE PROPIEDAD SOCIAL.
A4: 2017
A5: INDICADORES BÁSICOS DE LA PROPIEDAD SOCIAL (IBPS)
A6: N° | B6: Indicador | C6: Ene | D6: Feb | E6: Mar | F6: Abr | G6: May | H6: Jun | I6: Jul | J6: Ago | K6: Sep | L6: Oct | M6: Nov | N6: Dic
A7: 1 | B7: Número de ejidos registrados | E7: 42853
A8: 2 | B8: Superficie ejidal registrada | E8: 42853
A9: 3 | B9: Número de ejidos registrados con delimitación de tierras | E9: 42853
A10: 4 | B10: Superficie ejidal registrada con delimitación de tierras | E10: 42853
A11: 5 | B11: Número de ejidos registrados con tierras destinadas al asentamiento humano | E11: 42853
A12: 6 | B12: Superficie ejidal registrada destinada al asentamiento humano | E12: 42853
A13: 7 | B13: Número de ejidos registrados con tierras destinadas al parcelamiento | E13: 42853
A14: 8 | B14: Superficie ejidal registrada destinada al parcelamiento | E14: 42853
A15: 9 | B15: Número de ejidos registrados con tierras destinadas al uso común | E15: 42853
A16: 10 | B16: Superficie ejidal registrada con tierras destinadas al uso común | E16: 42853
A17: 11 | B17: Número de ejidos registrados con solares urbanos delimitados | E17: 42853
A18: 12 | B18: Número de solares urbanos delimitados en ejidos | E18: 42853
... A30: 24 | B30: Superficie comunal registrada como solar urbano delimitado | E30: 42853
A32: =COUNT(A7:A30) -> 24 | B32: IBPS

Sheet 2016
A2: REGISTRO AGRARIO NACIONAL
A3: CALENDARIO DE PUBLICACIÓN DE LOS INDICADORES CLAVE EN MATERIA DE PROPIEDAD SOCIAL.
A4: 2016
A5: INDICADORES BÁSICOS DE LA PROPIEDAD SOCIAL (IBPS)
A6: N° | B6: Indicador | C6: Ene | D6: Feb | E6: Mar | F6: Abr | G6: May | H6: Jun | I6: Jul | J6: Ago | K6: Sep | L6: Oct | M6: Nov | N6: Dic
A7: 1 | B7: Número de ejidos registrados | E7: 42683
A8: 2 | B8: Superficie ejidal registrada | E8: 42683
A9: 3 | B9: Número de ejidos registrados con delimitación de tierras | E9: 42683
A10: 4 | B10: Superficie ejidal registrada con delimitación de tierras | E10: 42683
A11: 18 | B11: Número de comunidades registradas con la delimitación al interior de sus tierras | E11: 42683
A12: 19 | B12: Superficie comunal registrada con delimitación al interior de tierras | E12: 42683
A14: =COUNT(A7:A12) -> 6 | B14: IBPS
